BEGIN:VCALENDAR
VERSION:2.0
PRODID:-//UW School of Medicine Faculty - ECPv6.15.20//NONSGML v1.0//EN
CALSCALE:GREGORIAN
METHOD:PUBLISH
X-ORIGINAL-URL:https://faculty.uwmedicine.org
X-WR-CALDESC:Events for UW School of Medicine Faculty
REFRESH-INTERVAL;VALUE=DURATION:PT1H
X-Robots-Tag:noindex
X-PUBLISHED-TTL:PT1H
BEGIN:VTIMEZONE
TZID:America/Los_Angeles
BEGIN:DAYLIGHT
TZOFFSETFROM:-0800
TZOFFSETTO:-0700
TZNAME:PDT
DTSTART:20250309T100000
END:DAYLIGHT
BEGIN:STANDARD
TZOFFSETFROM:-0700
TZOFFSETTO:-0800
TZNAME:PST
DTSTART:20251102T090000
END:STANDARD
BEGIN:DAYLIGHT
TZOFFSETFROM:-0800
TZOFFSETTO:-0700
TZNAME:PDT
DTSTART:20260308T100000
END:DAYLIGHT
BEGIN:STANDARD
TZOFFSETFROM:-0700
TZOFFSETTO:-0800
TZNAME:PST
DTSTART:20261101T090000
END:STANDARD
BEGIN:DAYLIGHT
TZOFFSETFROM:-0800
TZOFFSETTO:-0700
TZNAME:PDT
DTSTART:20270314T100000
END:DAYLIGHT
BEGIN:STANDARD
TZOFFSETFROM:-0700
TZOFFSETTO:-0800
TZNAME:PST
DTSTART:20271107T090000
END:STANDARD
END:VTIMEZONE
BEGIN:VEVENT
DTSTART;TZID=America/Los_Angeles:20260430T090000
DTEND;TZID=America/Los_Angeles:20260430T110000
DTSTAMP:20260419T182541
CREATED:20250522T154908Z
LAST-MODIFIED:20250522T155500Z
UID:3553-1777539600-1777546800@faculty.uwmedicine.org
SUMMARY:Leadership Series: Clear is Kind - Giving Feedback with Confidence and Compassion
DESCRIPTION:Register here \nOverview \nDelivering feedback is essential to professional growth\, a collaborative culture\, our educational environment\, and patient safety. However\, it’s often avoided\, delayed\, or poorly received. In this interactive session\, participants will explore evidence-based strategies for giving clear\, respectful\, and growth-oriented feedback. We’ll address common pitfalls\, discuss feedback across power dynamics\, and offer practical tools to support psychological safety while holding others accountable. Designed for healthcare professionals in leadership\, teaching\, or team-based roles\, this session aims to build confidence in having feedback conversations that drive learning and connection. \nThis session will be led by Drs. Giana Davidson (Interim Associate Dean for Faculty Affairs) and Addie McClintock (Director\, Teaching Scholars Program).
URL:https://faculty.uwmedicine.org/events-calendar/leadership-series-clear-is-kind-giving-feedback-with-confidence-and-compassion/
LOCATION:Zoom
CATEGORIES:Leadership
END:VEVENT
BEGIN:VEVENT
DTSTART;TZID=America/Los_Angeles:20260617T090000
DTEND;TZID=America/Los_Angeles:20260617T153000
DTSTAMP:20260419T182541
CREATED:20250623T151510Z
LAST-MODIFIED:20250623T152319Z
UID:3604-1781686800-1781710200@faculty.uwmedicine.org
SUMMARY:Transforming Your Career - Later Career (In Person)
DESCRIPTION:Transforming Your Career is a one-day\, in-person\, professional development workshop for UW School of Medicine faculty using Design Thinking. \nThis workshop was created for faculty who might be considering new directions\, different responsibilities\, feel “stuck”\, or are exploring transitioning into a next phase of their career. Participants will leave with clear goals\, several visions of their next steps\, experiments to test their initial ideas\, and a framework to keep their career moving forward. \nThis June 17\, 2026 session is geared toward faculty who are considering succession plans and/or are 2-10 years from retirement. \nApply here
URL:https://faculty.uwmedicine.org/events-calendar/transforming-your-career-later-career-in-person/
LOCATION:Health Sciences Building\, 1959 NE Pacific Street\, Seattle\, WA\, 98195\, United States
CATEGORIES:Leadership
END:VEVENT
END:VCALENDAR